BEGIN:VCALENDAR
METHOD:PUBLISH
PRODID:-//doubleknot.com//CalenderEvent MIMEDIR//EN
VERSION:2.0
BEGIN:VEVENT
UID:3143160-20260607T190000Z-20260607T230000Z@doubleknot.com
CREATED:20260413T161252Z
LAST-MODIFIED:20260413T161706Z
DTSTAMP:20260423T145446Z
DTSTART:20260607T190000Z
DTEND:20260607T230000Z
LOCATION:Wild Rose Lodge, Livingston, MT 59047, US
CATEGORIES:
DESCRIPTION:Outdoor Cookout Training - Livingston (Adults) \n  \n  \n Ready to get your troop into the great outdoors? Join GSMW at Wild Rose Lodge in Livingston for a hands-on cookout designed to level up your outdoor skills.  \n  \n  \n You&rsquo;ll master everything from fire safety to Dutch oven delicacies&mdash;all while swapping stories and sharing a meal with fellow volunteers from the area. \n  \n  \n The Essentials:Remember, for troops to go on an overnight campout, to have a campfire, or to host a cookout, volunteers must complete GSMW&#39;s Outdoor Training. So, before you attend this training, be sure to complete the online portions of our Outdoor Training. You can find complete Outdoor Training directions and the links here: http://www.gsmw.org/en/outdoors-travel/get-outdoors/Outdoor_Training.html \n  \n  \n What to expect: \n  \n - Fire Skills: Mastering safety and starting techniques. \n  \n - Gear &amp; Methods: Foil tents, stick cooking,  \n  \n - Dutch ovens, and camp stoves. \n  \n  \n We provide the expertise and the food (including vegetarian options); you bring the appetite and a curious spirit. \n  \n  \n Rain or Shine: We&rsquo;ll be outdoors regardless of the weather, so please dress for the elements. \n  \n  \n Adults Only: To keep the focus on training, this session is for adults only; children of any age are not permitted. \n  \n  \n Can&rsquo;t make it? Find another parent to attend and become your troop&rsquo;s designated outdoor expert. An adult membership is just $30 and is a great way for parents to stay invested in their Girl Scout&#39;s experience. Come for the skills, stay for the camp food, enjoy the camaraderie.  \n  \n  \n Registration for this event is $20 per person and closes on June 2nd. \n  \n After June 2nd, your program registration is non-refundable. \n  \n  \n Current Program Capacity \n 
SUMMARY:Outdoor Cookout Training - Livingston (Adults)
PRIORITY:5
BEGIN:VALARM
TRIGGER:PT15M
ACTION:DISPLAY
DESCRIPTION:Reminder
PRIORITY:5
END:VALARM
END:VEVENT
END:VCALENDAR
