BEGIN:VCALENDAR
METHOD:PUBLISH
PRODID:-//doubleknot.com//CalenderEvent MIMEDIR//EN
VERSION:2.0
BEGIN:VEVENT
UID:3140740-20260509T160000Z-20260509T200000Z@doubleknot.com
CREATED:20260312T150920Z
LAST-MODIFIED:20260312T160446Z
DTSTAMP:20260421T034007Z
DTSTART:20260509T160000Z
DTEND:20260509T200000Z
LOCATION:Boys & Girls Club, Gillette, WY 82716, US
CATEGORIES:
DESCRIPTION:Brave Hearts &amp; Helping Hands: The Patriot Edition - Gillette (Grades K-5) \n  \n  \n This dynamic Girl Scout program empowers girls to become confident, compassionate leaders by exploring five core pillars of service and responsibility: Accessibility, Citizenship, Community Enrichment, Patriotism, and Safety. \n  \n  \n Girls will learn the importance of Accessibility and inclusion, discovering how to support individuals with different abilities and special needs while creating welcoming environments for all. Through interactive activities and service opportunities, they will gain a deeper understanding of empathy, respect, and advocacy. \n  \n  \n In the area of Citizenship, participants will explore the foundations of our government, the Constitution, and what it means to be an engaged and responsible citizen. Girls will learn why volunteering matters and how their voices and actions can positively impact their communities. \n  \n  \n Through Community Enrichment, Girl Scouts will participate in meaningful service projects that benefit local neighborhoods and surrounding areas. They will discover how even small acts of service can create lasting change and strengthen community connections. \n  \n  \n The program also focuses on Patriotism, teaching girls how to honor and respect our country, flag, military members, and veterans. They will learn the significance of national symbols and traditions while developing gratitude for those who serve. \n  \n  \n Finally, girls will build confidence through Safety and preparedness training, learning about personal safety, emergency readiness, and how to begin preparing for unexpected situations. These practical skills will help them feel empowered, capable, and ready to respond responsibly. \n  \n  \n By the end of this program, Girl Scouts will better understand their role as leaders, helpers, and citizens&mdash;prepared to serve with courage, confidence, and character.  \n  \n  \n They will receive a patch with 5 rockers to place around it. Snacks will be provided. Please bring a sack lunch. This program will be for registered Girls Scouts only, no tag-a-longs please. Volunteers are appreciated and welcome to register.  \n  \n  \n Registration for this event is $20 per girl and closes on April 25th. \n  \n After April 25th, your program registration is non-refundable. \n  \n  \n Current Program Capacity \n 
SUMMARY:Brave Hearts & Helping Hands: The Patriot Edition - Gillette (Grades K-5)
PRIORITY:5
BEGIN:VALARM
TRIGGER:PT15M
ACTION:DISPLAY
DESCRIPTION:Reminder
PRIORITY:5
END:VALARM
END:VEVENT
END:VCALENDAR
