BEGIN:VCALENDAR
METHOD:PUBLISH
PRODID:-//doubleknot.com//CalenderEvent MIMEDIR//EN
VERSION:2.0
BEGIN:VEVENT
UID:3137704-20260507T233000Z-20260508T013000Z@doubleknot.com
CREATED:20260219T003547Z
LAST-MODIFIED:20260219T004411Z
DTSTAMP:20260421T034037Z
DTSTART:20260507T233000Z
DTEND:20260508T013000Z
LOCATION:Artisan Alley, Casper, WY 82604, US
CATEGORIES:
DESCRIPTION:Boards &amp; Bites Paint Party - Casper (Grades 4-12) \n  \n  \n Join GSMW for a fun, creative night with your Girl Scout crew at Artisan Alley!  \n  \n  \n Girls will choose from five stylish wooden board designs and transform their favorite into a one-of-a-kind piece to take home. From bold patterns to inspiring phrases and rustic looks, there&rsquo;s a design for every style. Once you&rsquo;ve selected your board, you&rsquo;ll add your own creative spin with custom colors, details, and finishing touches to make it uniquely yours.  \n  \n  \n No experience is needed&mdash;just bring your imagination and get ready to create. While you paint, enjoy a few slices of pizza and plenty of laughs with friends. It&rsquo;s the perfect blend of creativity, connection, and fun for girls in grades 4&ndash;12. \n  \n  \n Registration for this event is $30 per girl and closes on April 30th. \n  \n After April 30th, your program registration is non-refundable. \n  \n  \n Current Program Capacity \n 
SUMMARY:Boards & Bites Paint Party - Casper (Grades 4-12)
PRIORITY:5
BEGIN:VALARM
TRIGGER:PT15M
ACTION:DISPLAY
DESCRIPTION:Reminder
PRIORITY:5
END:VALARM
END:VEVENT
END:VCALENDAR
