BEGIN:VCALENDAR
METHOD:PUBLISH
PRODID:-//doubleknot.com//CalenderEvent MIMEDIR//EN
VERSION:2.0
BEGIN:VEVENT
UID:3131744-20260425T160000Z-20260425T183000Z@doubleknot.com
CREATED:20260115T155821Z
LAST-MODIFIED:20260115T160321Z
DTSTAMP:20260421T032205Z
DTSTART:20260425T160000Z
DTEND:20260425T183000Z
LOCATION:4-H Building at Metra Park, Billints, MT 59102, US
CATEGORIES:
DESCRIPTION:Whisked Away by Science: Muffin Edition - Billings (Grades K-5) \n  \n  \n In this hands-on baking experience, Girl Scouts will partner with the Montana State University Extension Office to explore the science behind baking. Participants will mix, measure, and bake muffins from scratch while learning how baking powder helps muffins rise, why accurate measurements matter, and how science plays a role in everyday cooking. \n  \n  \n Girls will also use their senses&mdash;sight, smell, and taste&mdash;to evaluate their baked goods, ending the class with a fun and delicious taste test. All participants will receive a fun patch to commemorate the experience. \n  \n  \n Registration for this event is $11 per girl and closes on April 20th. \n  \n After April 20th, your program registration is non-refundable. \n  \n  \n Current Program Capacity \n 
SUMMARY:Whisked Away by Science: Muffin Edition - Billings (Grades K-5)
PRIORITY:5
BEGIN:VALARM
TRIGGER:PT15M
ACTION:DISPLAY
DESCRIPTION:Reminder
PRIORITY:5
END:VALARM
END:VEVENT
END:VCALENDAR
